Package: divergence Version: 1.22.0 Command: /Library/Frameworks/R.framework/Resources/bin/R CMD check --install=check:divergence.install-out.txt --library=/Library/Frameworks/R.framework/Resources/library --no-vignettes --timings divergence_1.22.0.tar.gz StartedAt: 2025-02-04 02:53:30 -0500 (Tue, 04 Feb 2025) EndedAt: 2025-02-04 02:59:40 -0500 (Tue, 04 Feb 2025) EllapsedTime: 369.6 seconds RetCode: 0 Status: OK CheckDir: divergence.Rcheck Warnings: 0