Package: divergence Version: 1.22.0 Command: /home/biocbuild/R/R/bin/R CMD check --install=check:divergence.install-out.txt --library=/home/biocbuild/R/R/site-library --no-vignettes --timings divergence_1.22.0.tar.gz StartedAt: 2025-02-04 06:29:49 -0000 (Tue, 04 Feb 2025) EndedAt: 2025-02-04 06:33:11 -0000 (Tue, 04 Feb 2025) EllapsedTime: 201.3 seconds RetCode: 0 Status: OK CheckDir: divergence.Rcheck Warnings: 0