Package: dks Version: 1.52.0 Command: rm -rf dks.buildbin-libdir && mkdir dks.buildbin-libdir && /Users/biocbuild/BBS/utils/build-universal.sh dks_1.52.0.tar.gz /Library/Frameworks/R.framework/Resources/bin/R dks.buildbin-libdir StartedAt: 2025-02-05 15:37:58 -0500 (Wed, 05 Feb 2025) EndedAt: 2025-02-05 15:38:03 -0500 (Wed, 05 Feb 2025) EllapsedTime: 4.4 seconds RetCode: 0 Status: OK PackageFile: dks_1.52.0.tgz PackageFileSize: 620.3 KiB