Package: dks Version: 1.52.0 Command: /Library/Frameworks/R.framework/Resources/bin/R CMD build --keep-empty-dirs --no-resave-data dks StartedAt: 2025-02-03 22:42:08 -0500 (Mon, 03 Feb 2025) EndedAt: 2025-02-03 22:42:22 -0500 (Mon, 03 Feb 2025) EllapsedTime: 13.8 seconds RetCode: 0 Status: OK PackageFile: dks_1.52.0.tar.gz PackageFileSize: 601.1 KiB