Package: dks Version: 1.52.0 Command: /Library/Frameworks/R.framework/Resources/bin/R CMD INSTALL dks StartedAt: 2025-02-03 15:13:09 -0500 (Mon, 03 Feb 2025) EndedAt: 2025-02-03 15:13:16 -0500 (Mon, 03 Feb 2025) EllapsedTime: 7.6 seconds RetCode: 0 Status: OK