Package: dks Version: 1.52.0 Command: rm -rf dks.buildbin-libdir && mkdir dks.buildbin-libdir && /Users/biocbuild/BBS/utils/build-universal.sh dks_1.52.0.tar.gz /Library/Frameworks/R.framework/Resources/bin/R dks.buildbin-libdir StartedAt: 2025-02-04 12:50:52 -0500 (Tue, 04 Feb 2025) EndedAt: 2025-02-04 12:50:57 -0500 (Tue, 04 Feb 2025) EllapsedTime: 5.5 seconds RetCode: 0 Status: OK PackageFile: dks_1.52.0.tgz PackageFileSize: 620.4 KiB