Package: dmrseq Version: 1.26.0 Command: rm -rf dmrseq.buildbin-libdir && mkdir dmrseq.buildbin-libdir && /Users/biocbuild/BBS/utils/build-universal.sh dmrseq_1.26.0.tar.gz /Library/Frameworks/R.framework/Resources/bin/R dmrseq.buildbin-libdir StartedAt: 2025-02-05 15:38:21 -0500 (Wed, 05 Feb 2025) EndedAt: 2025-02-05 15:39:26 -0500 (Wed, 05 Feb 2025) EllapsedTime: 65.1 seconds RetCode: 0 Status: OK PackageFile: dmrseq_1.26.0.tgz PackageFileSize: 4.975 MiB