Package: dmrseq Version: 1.26.0 Command: /Library/Frameworks/R.framework/Resources/bin/R CMD build --keep-empty-dirs --no-resave-data dmrseq StartedAt: 2025-02-03 22:44:19 -0500 (Mon, 03 Feb 2025) EndedAt: 2025-02-03 22:47:45 -0500 (Mon, 03 Feb 2025) EllapsedTime: 206.1 seconds RetCode: 0 Status: OK PackageFile: dmrseq_1.26.0.tar.gz PackageFileSize: 2.968 MiB