Package: dmrseq Version: 1.26.0 Command: rm -rf dmrseq.buildbin-libdir && mkdir dmrseq.buildbin-libdir && F:\biocbuild\bbs-3.20-bioc\R\bin\R.exe CMD INSTALL --build --library=dmrseq.buildbin-libdir dmrseq_1.26.0.tar.gz StartedAt: 2025-02-04 08:23:47 -0500 (Tue, 04 Feb 2025) EndedAt: 2025-02-04 08:24:47 -0500 (Tue, 04 Feb 2025) EllapsedTime: 60.1 seconds RetCode: 0 Status: OK PackageFile: dmrseq_1.26.0.zip PackageFileSize: 4.214 MiB