Package: dmrseq Version: 1.26.0 Command: chmod a+r dmrseq -R && F:\biocbuild\bbs-3.20-bioc\R\bin\R.exe CMD build --keep-empty-dirs --no-resave-data dmrseq StartedAt: 2025-02-03 18:44:41 -0500 (Mon, 03 Feb 2025) EndedAt: 2025-02-03 19:03:51 -0500 (Mon, 03 Feb 2025) EllapsedTime: 1150.2 seconds RetCode: 0 Status: OK PackageFile: dmrseq_1.26.0.tar.gz PackageFileSize: 2.668 MiB