Package: dmrseq Version: 1.26.0 Command: F:\biocbuild\bbs-3.20-bioc\R\bin\R.exe CMD check --no-multiarch --install=check:dmrseq.install-out.txt --library=F:\biocbuild\bbs-3.20-bioc\R\library --no-vignettes --timings dmrseq_1.26.0.tar.gz StartedAt: 2025-02-04 01:19:51 -0500 (Tue, 04 Feb 2025) EndedAt: 2025-02-04 01:31:57 -0500 (Tue, 04 Feb 2025) EllapsedTime: 725.7 seconds RetCode: 0 Status: OK CheckDir: dmrseq.Rcheck Warnings: 0