Package: dmrseq Version: 1.26.0 Command: /home/biocbuild/R/R/bin/R CMD build --keep-empty-dirs --no-resave-data dmrseq StartedAt: 2025-02-03 23:15:39 -0000 (Mon, 03 Feb 2025) EndedAt: 2025-02-03 23:19:03 -0000 (Mon, 03 Feb 2025) EllapsedTime: 204.1 seconds RetCode: 0 Status: OK PackageFile: dmrseq_1.26.0.tar.gz PackageFileSize: 2.686 MiB