Package: doseR Version: 1.22.0 Command: /Library/Frameworks/R.framework/Resources/bin/R CMD INSTALL doseR StartedAt: 2025-02-03 16:29:14 -0500 (Mon, 03 Feb 2025) EndedAt: 2025-02-03 16:29:38 -0500 (Mon, 03 Feb 2025) EllapsedTime: 24.7 seconds RetCode: 0 Status: OK