Package: doseR
Version: 1.22.0
Command: rm -rf doseR.buildbin-libdir && mkdir doseR.buildbin-libdir && /Users/biocbuild/BBS/utils/build-universal.sh doseR_1.22.0.tar.gz /Library/Frameworks/R.framework/Resources/bin/R doseR.buildbin-libdir
StartedAt: 2024-11-09 16:47:12 -0500 (Sat, 09 Nov 2024)
EndedAt: 2024-11-09 16:47:21 -0500 (Sat, 09 Nov 2024)
EllapsedTime: 9.2 seconds
RetCode: 0
Status: OK
PackageFile: doseR_1.22.0.tgz
PackageFileSize: 1.394 <A href="http://en.wikipedia.org/wiki/MiB" target="_blank">MiB</A>