Package: doseR Version: 1.22.0 Command: /home/biocbuild/bbs-3.20-bioc/R/bin/R CMD build --keep-empty-dirs --no-resave-data --md5 doseR StartedAt: 2025-02-03 17:15:09 -0500 (Mon, 03 Feb 2025) EndedAt: 2025-02-03 17:15:40 -0500 (Mon, 03 Feb 2025) EllapsedTime: 31.0 seconds RetCode: 0 Status: OK PackageFile: doseR_1.22.0.tar.gz PackageFileSize: 1.341 MiB