Package: doseR Version: 1.22.0 Command: /home/biocbuild/bbs-3.20-bioc/R/bin/R CMD INSTALL doseR StartedAt: 2025-02-03 15:38:24 -0500 (Mon, 03 Feb 2025) EndedAt: 2025-02-03 15:38:44 -0500 (Mon, 03 Feb 2025) EllapsedTime: 19.6 seconds RetCode: 0 Status: OK