Package: doseR Version: 1.22.0 Command: F:\biocbuild\bbs-3.20-bioc\R\bin\R.exe CMD INSTALL doseR StartedAt: 2025-02-03 17:04:01 -0500 (Mon, 03 Feb 2025) EndedAt: 2025-02-03 17:04:26 -0500 (Mon, 03 Feb 2025) EllapsedTime: 24.5 seconds RetCode: 0 Status: OK