Package: drawProteins Version: 1.26.0 Command: rm -rf drawProteins.buildbin-libdir && mkdir drawProteins.buildbin-libdir && /Users/biocbuild/BBS/utils/build-universal.sh drawProteins_1.26.0.tar.gz /Library/Frameworks/R.framework/Resources/bin/R drawProteins.buildbin-libdir StartedAt: 2025-02-05 15:39:58 -0500 (Wed, 05 Feb 2025) EndedAt: 2025-02-05 15:40:04 -0500 (Wed, 05 Feb 2025) EllapsedTime: 6.6 seconds RetCode: 0 Status: OK PackageFile: drawProteins_1.26.0.tgz PackageFileSize: 1.607 MiB