Package: drawProteins Version: 1.26.0 Command: /Library/Frameworks/R.framework/Resources/bin/R CMD INSTALL drawProteins StartedAt: 2025-02-03 15:35:46 -0500 (Mon, 03 Feb 2025) EndedAt: 2025-02-03 15:35:50 -0500 (Mon, 03 Feb 2025) EllapsedTime: 4.6 seconds RetCode: 0 Status: OK