Package: drawProteins Version: 1.26.0 Command: /Library/Frameworks/R.framework/Resources/bin/R CMD build --keep-empty-dirs --no-resave-data drawProteins StartedAt: 2025-02-03 18:39:34 -0500 (Mon, 03 Feb 2025) EndedAt: 2025-02-03 18:40:29 -0500 (Mon, 03 Feb 2025) EllapsedTime: 55.3 seconds RetCode: 0 Status: OK PackageFile: drawProteins_1.26.0.tar.gz PackageFileSize: 1.562 MiB