Package: drawProteins Version: 1.26.0 Command: /home/biocbuild/R/R/bin/R CMD check --install=check:drawProteins.install-out.txt --library=/home/biocbuild/R/R/site-library --no-vignettes --timings drawProteins_1.26.0.tar.gz StartedAt: 2025-02-18 06:07:31 -0000 (Tue, 18 Feb 2025) EndedAt: 2025-02-18 06:08:17 -0000 (Tue, 18 Feb 2025) EllapsedTime: 46.0 seconds RetCode: 0 Status: OK CheckDir: drawProteins.Rcheck Warnings: 0