Package: drawProteins Version: 1.26.0 Command: /home/biocbuild/R/R/bin/R CMD INSTALL drawProteins StartedAt: 2025-02-03 20:28:57 -0000 (Mon, 03 Feb 2025) EndedAt: 2025-02-03 20:29:05 -0000 (Mon, 03 Feb 2025) EllapsedTime: 8.1 seconds RetCode: 0 Status: OK