Package: drugTargetInteractions
Version: 1.13.0
Command: F:\biocbuild\bbs-3.20-bioc\R\bin\R.exe CMD INSTALL drugTargetInteractions
StartedAt: 2024-06-09 16:07:04 -0400 (Sun, 09 Jun 2024)
EndedAt: 2024-06-09 16:07:54 -0400 (Sun, 09 Jun 2024)
EllapsedTime: 49.9 seconds
RetCode: 0
Status: OK