Package: drugTargetInteractions
Version: 1.14.0
Command: F:\biocbuild\bbs-3.20-bioc\R\bin\R.exe CMD INSTALL drugTargetInteractions
StartedAt: 2025-02-13 16:06:34 -0500 (Thu, 13 Feb 2025)
EndedAt: 2025-02-13 16:08:30 -0500 (Thu, 13 Feb 2025)
EllapsedTime: 116.1 seconds
RetCode: 0
Status: OK