Package: dupRadar Version: 1.36.0 Command: /Library/Frameworks/R.framework/Resources/bin/R CMD INSTALL dupRadar StartedAt: 2025-02-03 15:16:56 -0500 (Mon, 03 Feb 2025) EndedAt: 2025-02-03 15:17:05 -0500 (Mon, 03 Feb 2025) EllapsedTime: 9.7 seconds RetCode: 0 Status: OK