Package: dupRadar
Version: 1.36.0
Command: /home/biocbuild/R/R/bin/R CMD check --install=check:dupRadar.install-out.txt --library=/home/biocbuild/R/R/site-library --no-vignettes --timings dupRadar_1.36.0.tar.gz
StartedAt: 2024-11-20 07:27:07 -0000 (Wed, 20 Nov 2024)
EndedAt: 2024-11-20 07:28:01 -0000 (Wed, 20 Nov 2024)
EllapsedTime: 54.1 seconds
RetCode: 0
Status: OK
CheckDir: dupRadar.Rcheck
Warnings: 0