Package: dupRadar Version: 1.36.0 Command: /home/biocbuild/R/R/bin/R CMD build --keep-empty-dirs --no-resave-data dupRadar StartedAt: 2025-02-03 23:19:11 -0000 (Mon, 03 Feb 2025) EndedAt: 2025-02-03 23:19:58 -0000 (Mon, 03 Feb 2025) EllapsedTime: 47.0 seconds RetCode: 0 Status: OK PackageFile: dupRadar_1.36.0.tar.gz PackageFileSize: 3.11 MiB