Package: dupRadar Version: 1.36.0 Command: /home/biocbuild/R/R/bin/R CMD INSTALL dupRadar StartedAt: 2025-02-03 20:24:44 -0000 (Mon, 03 Feb 2025) EndedAt: 2025-02-03 20:25:09 -0000 (Mon, 03 Feb 2025) EllapsedTime: 25.3 seconds RetCode: 0 Status: OK