Package: dupRadar Version: 1.36.0 Command: /home/biocbuild/bbs-3.20-bioc/R/bin/R CMD build --keep-empty-dirs --no-resave-data dupRadar StartedAt: 2024-11-19 18:42:54 -0500 (Tue, 19 Nov 2024) EndedAt: 2024-11-19 18:43:25 -0500 (Tue, 19 Nov 2024) EllapsedTime: 31.3 seconds RetCode: 0 Status: OK PackageFile: dupRadar_1.36.0.tar.gz PackageFileSize: 4.14 MiB