##############################################################################
##############################################################################
###
### Running command:
###
###   rm -rf dyebias.buildbin-libdir && mkdir dyebias.buildbin-libdir && F:\biocbuild\bbs-3.20-bioc\R\bin\R.exe CMD INSTALL --build --library=dyebias.buildbin-libdir dyebias_1.65.0.tar.gz
###
##############################################################################
##############################################################################


* installing *source* package 'dyebias' ...
** using staged installation
** R
** inst
** byte-compile and prepare package for lazy loading
** help
*** installing help indices
** building package indices
** installing vignettes
** testing if installed package can be loaded from temporary location
** testing if installed package can be loaded from final location
** testing if installed package keeps a record of temporary installation path
* MD5 sums
packaged installation of 'dyebias' as dyebias_1.65.0.zip
* DONE (dyebias)