Package: dyebias
Version: 1.66.0
Command: chmod a+r dyebias -R && F:\biocbuild\bbs-3.20-bioc\R\bin\R.exe CMD build --keep-empty-dirs --no-resave-data dyebias
StartedAt: 2025-02-13 18:29:40 -0500 (Thu, 13 Feb 2025)
EndedAt: 2025-02-13 18:30:23 -0500 (Thu, 13 Feb 2025)
EllapsedTime: 43.7 seconds
RetCode: 0
Status: OK
PackageFile: dyebias_1.66.0.tar.gz
PackageFileSize: 2.502 <A href="http://en.wikipedia.org/wiki/MiB" target="_blank">MiB</A>