Package: dyebias Version: 1.66.0 Command: /home/biocbuild/R/R/bin/R CMD build --keep-empty-dirs --no-resave-data dyebias StartedAt: 2025-01-30 23:18:37 -0000 (Thu, 30 Jan 2025) EndedAt: 2025-01-30 23:19:07 -0000 (Thu, 30 Jan 2025) EllapsedTime: 30.0 seconds RetCode: 0 Status: OK PackageFile: dyebias_1.66.0.tar.gz PackageFileSize: 2.717 MiB