Package: easier Version: 1.12.0 Command: /Library/Frameworks/R.framework/Resources/bin/R CMD INSTALL easier StartedAt: 2025-02-10 16:40:27 -0500 (Mon, 10 Feb 2025) EndedAt: 2025-02-10 16:41:37 -0500 (Mon, 10 Feb 2025) EllapsedTime: 69.6 seconds RetCode: 0 Status: OK