Package: easier Version: 1.12.0 Command: /home/biocbuild/bbs-3.20-bioc/R/bin/R CMD build --keep-empty-dirs --no-resave-data --md5 easier StartedAt: 2025-02-03 17:16:44 -0500 (Mon, 03 Feb 2025) EndedAt: 2025-02-03 17:21:25 -0500 (Mon, 03 Feb 2025) EllapsedTime: 281.4 seconds RetCode: 0 Status: OK PackageFile: easier_1.12.0.tar.gz PackageFileSize: 3.679 MiB