Package: easier Version: 1.12.0 Command: chmod a+r easier -R && F:\biocbuild\bbs-3.20-bioc\R\bin\R.exe CMD build --keep-empty-dirs --no-resave-data easier StartedAt: 2025-02-03 18:48:39 -0500 (Mon, 03 Feb 2025) EndedAt: 2025-02-03 18:51:42 -0500 (Mon, 03 Feb 2025) EllapsedTime: 182.5 seconds RetCode: 1 Status: ERROR PackageFile: None PackageFileSize: NA