Package: easier Version: 1.12.0 Command: F:\biocbuild\bbs-3.20-bioc\R\bin\R.exe CMD INSTALL easier StartedAt: 2025-02-03 16:27:48 -0500 (Mon, 03 Feb 2025) EndedAt: 2025-02-03 16:28:34 -0500 (Mon, 03 Feb 2025) EllapsedTime: 45.6 seconds RetCode: 0 Status: OK