Package: easyRNASeq Version: 2.42.0 Command: rm -rf easyRNASeq.buildbin-libdir && mkdir easyRNASeq.buildbin-libdir && /Users/biocbuild/BBS/utils/build-universal.sh easyRNASeq_2.42.0.tar.gz /Library/Frameworks/R.framework/Resources/bin/R easyRNASeq.buildbin-libdir StartedAt: 2025-02-05 15:41:31 -0500 (Wed, 05 Feb 2025) EndedAt: 2025-02-05 15:42:32 -0500 (Wed, 05 Feb 2025) EllapsedTime: 61.1 seconds RetCode: 0 Status: OK PackageFile: easyRNASeq_2.42.0.tgz PackageFileSize: 24.06 MiB