Package: easyRNASeq Version: 2.42.0 Command: /Library/Frameworks/R.framework/Resources/bin/R CMD build --keep-empty-dirs --no-resave-data easyRNASeq StartedAt: 2025-02-03 22:59:27 -0500 (Mon, 03 Feb 2025) EndedAt: 2025-02-03 23:04:57 -0500 (Mon, 03 Feb 2025) EllapsedTime: 330.2 seconds RetCode: 0 Status: OK PackageFile: easyRNASeq_2.42.0.tar.gz PackageFileSize: 69.55 MiB