Package: easyRNASeq Version: 2.42.0 Command: rm -rf easyRNASeq.buildbin-libdir && mkdir easyRNASeq.buildbin-libdir && /Users/biocbuild/BBS/utils/build-universal.sh easyRNASeq_2.42.0.tar.gz /Library/Frameworks/R.framework/Resources/bin/R easyRNASeq.buildbin-libdir StartedAt: 2024-11-09 16:47:33 -0500 (Sat, 09 Nov 2024) EndedAt: 2024-11-09 16:47:53 -0500 (Sat, 09 Nov 2024) EllapsedTime: 20.4 seconds RetCode: 0 Status: OK PackageFile: easyRNASeq_2.42.0.tgz PackageFileSize: 24.06 MiB