Package: easyRNASeq Version: 2.42.0 Command: /home/biocbuild/bbs-3.20-bioc/R/bin/R CMD build --keep-empty-dirs --no-resave-data --md5 easyRNASeq StartedAt: 2025-02-03 17:16:57 -0500 (Mon, 03 Feb 2025) EndedAt: 2025-02-03 17:20:38 -0500 (Mon, 03 Feb 2025) EllapsedTime: 221.3 seconds RetCode: 0 Status: OK PackageFile: easyRNASeq_2.42.0.tar.gz PackageFileSize: 69.56 MiB