Package: easyRNASeq Version: 2.42.0 Command: /home/biocbuild/bbs-3.20-bioc/R/bin/R CMD check --install=check:easyRNASeq.install-out.txt --library=/home/biocbuild/bbs-3.20-bioc/R/site-library --timings easyRNASeq_2.42.0.tar.gz StartedAt: 2025-02-03 22:02:15 -0500 (Mon, 03 Feb 2025) EndedAt: 2025-02-03 22:15:03 -0500 (Mon, 03 Feb 2025) EllapsedTime: 767.7 seconds RetCode: 0 Status: OK CheckDir: easyRNASeq.Rcheck Warnings: 0