Package: easyRNASeq Version: 2.42.0 Command: /home/biocbuild/bbs-3.20-bioc/R/bin/R CMD INSTALL easyRNASeq StartedAt: 2025-02-03 15:39:50 -0500 (Mon, 03 Feb 2025) EndedAt: 2025-02-03 15:40:35 -0500 (Mon, 03 Feb 2025) EllapsedTime: 44.3 seconds RetCode: 0 Status: OK