Package: easyRNASeq Version: 2.42.0 Command: rm -rf easyRNASeq.buildbin-libdir && mkdir easyRNASeq.buildbin-libdir && F:\biocbuild\bbs-3.20-bioc\R\bin\R.exe CMD INSTALL --build --library=easyRNASeq.buildbin-libdir easyRNASeq_2.42.0.tar.gz StartedAt: 2025-02-04 08:25:13 -0500 (Tue, 04 Feb 2025) EndedAt: 2025-02-04 08:27:42 -0500 (Tue, 04 Feb 2025) EllapsedTime: 149.3 seconds RetCode: 0 Status: OK PackageFile: easyRNASeq_2.42.0.zip PackageFileSize: 23.98 MiB