Package: easylift Version: 1.4.0 Command: rm -rf easylift.buildbin-libdir && mkdir easylift.buildbin-libdir && /Users/biocbuild/BBS/utils/build-universal.sh easylift_1.4.0.tar.gz /Library/Frameworks/R.framework/Resources/bin/R easylift.buildbin-libdir StartedAt: 2025-02-01 14:45:43 -0500 (Sat, 01 Feb 2025) EndedAt: 2025-02-01 14:46:24 -0500 (Sat, 01 Feb 2025) EllapsedTime: 41.0 seconds RetCode: 0 Status: OK PackageFile: easylift_1.4.0.tgz PackageFileSize: 691.9 KiB