Package: easylift Version: 1.4.0 Command: /Library/Frameworks/R.framework/Resources/bin/R CMD INSTALL easylift StartedAt: 2025-01-30 15:58:31 -0500 (Thu, 30 Jan 2025) EndedAt: 2025-01-30 15:59:09 -0500 (Thu, 30 Jan 2025) EllapsedTime: 37.8 seconds RetCode: 0 Status: OK