Package: easylift Version: 1.4.0 Command: /Library/Frameworks/R.framework/Resources/bin/R CMD check --install=check:easylift.install-out.txt --library=/Library/Frameworks/R.framework/Resources/library --no-vignettes --timings easylift_1.4.0.tar.gz StartedAt: 2024-11-09 01:24:08 -0500 (Sat, 09 Nov 2024) EndedAt: 2024-11-09 01:29:12 -0500 (Sat, 09 Nov 2024) EllapsedTime: 303.9 seconds RetCode: 0 Status: OK CheckDir: easylift.Rcheck Warnings: 0