Package: easylift Version: 1.4.0 Command: rm -rf easylift.buildbin-libdir && mkdir easylift.buildbin-libdir && /Users/biocbuild/BBS/utils/build-universal.sh easylift_1.4.0.tar.gz /Library/Frameworks/R.framework/Resources/bin/R easylift.buildbin-libdir StartedAt: 2025-01-31 12:44:04 -0500 (Fri, 31 Jan 2025) EndedAt: 2025-01-31 12:45:13 -0500 (Fri, 31 Jan 2025) EllapsedTime: 69.7 seconds RetCode: 0 Status: OK PackageFile: easylift_1.4.0.tgz PackageFileSize: 691.9 KiB