Package: easylift Version: 1.4.0 Command: /Library/Frameworks/R.framework/Resources/bin/R CMD check --install=check:easylift.install-out.txt --library=/Library/Frameworks/R.framework/Resources/library --no-vignettes --timings easylift_1.4.0.tar.gz StartedAt: 2025-01-31 03:22:29 -0500 (Fri, 31 Jan 2025) EndedAt: 2025-01-31 03:31:02 -0500 (Fri, 31 Jan 2025) EllapsedTime: 512.8 seconds RetCode: 0 Status: OK CheckDir: easylift.Rcheck Warnings: 0