Package: easylift Version: 1.4.0 Command: /home/biocbuild/bbs-3.20-bioc/R/bin/R CMD check --install=check:easylift.install-out.txt --library=/home/biocbuild/bbs-3.20-bioc/R/site-library --timings easylift_1.4.0.tar.gz StartedAt: 2025-01-30 21:51:45 -0500 (Thu, 30 Jan 2025) EndedAt: 2025-01-30 21:55:52 -0500 (Thu, 30 Jan 2025) EllapsedTime: 247.3 seconds RetCode: 0 Status: OK CheckDir: easylift.Rcheck Warnings: 0