Package: easylift Version: 1.4.0 Command: rm -rf easylift.buildbin-libdir && mkdir easylift.buildbin-libdir && F:\biocbuild\bbs-3.20-bioc\R\bin\R.exe CMD INSTALL --build --library=easylift.buildbin-libdir easylift_1.4.0.tar.gz StartedAt: 2025-01-31 08:35:08 -0500 (Fri, 31 Jan 2025) EndedAt: 2025-01-31 08:35:59 -0500 (Fri, 31 Jan 2025) EllapsedTime: 51.1 seconds RetCode: 0 Status: OK PackageFile: easylift_1.4.0.zip PackageFileSize: 693.4 KiB